BEGIN:VCALENDAR
VERSION:2.0
PRODID:-//Sateenkaari­historian ystävät - ECPv6.15.14//NONSGML v1.0//EN
CALSCALE:GREGORIAN
METHOD:PUBLISH
X-ORIGINAL-URL:https://sateenkaarihistoria.fi
X-WR-CALDESC:Tapahtumat Sateenkaari­historian ystävät
REFRESH-INTERVAL;VALUE=DURATION:PT1H
X-Robots-Tag:noindex
X-PUBLISHED-TTL:PT1H
BEGIN:VTIMEZONE
TZID:Europe/Helsinki
BEGIN:DAYLIGHT
TZOFFSETFROM:+0200
TZOFFSETTO:+0300
TZNAME:EEST
DTSTART:20220327T010000
END:DAYLIGHT
BEGIN:STANDARD
TZOFFSETFROM:+0300
TZOFFSETTO:+0200
TZNAME:EET
DTSTART:20221030T010000
END:STANDARD
BEGIN:DAYLIGHT
TZOFFSETFROM:+0200
TZOFFSETTO:+0300
TZNAME:EEST
DTSTART:20230326T010000
END:DAYLIGHT
BEGIN:STANDARD
TZOFFSETFROM:+0300
TZOFFSETTO:+0200
TZNAME:EET
DTSTART:20231029T010000
END:STANDARD
BEGIN:DAYLIGHT
TZOFFSETFROM:+0200
TZOFFSETTO:+0300
TZNAME:EEST
DTSTART:20240331T010000
END:DAYLIGHT
BEGIN:STANDARD
TZOFFSETFROM:+0300
TZOFFSETTO:+0200
TZNAME:EET
DTSTART:20241027T010000
END:STANDARD
BEGIN:DAYLIGHT
TZOFFSETFROM:+0200
TZOFFSETTO:+0300
TZNAME:EEST
DTSTART:20250330T010000
END:DAYLIGHT
BEGIN:STANDARD
TZOFFSETFROM:+0300
TZOFFSETTO:+0200
TZNAME:EET
DTSTART:20251026T010000
END:STANDARD
END:VTIMEZONE
BEGIN:VEVENT
DTSTART;VALUE=DATE:20231101
DTEND;VALUE=DATE:20240501
DTSTAMP:20260425T193526
CREATED:20231103T091212Z
LAST-MODIFIED:20240229T091324Z
UID:10438-1698796800-1714521599@sateenkaarihistoria.fi
SUMMARY:Sateenkaareva internet -kysely
DESCRIPTION:Kerro omat muistosi ja kokemuksesi sateenkaarevasta internetistä! Haemme muistoja sekä internetin varhaisajoilta että 2000-luvulta.\n\nPostimuseo ja Päivälehden museo järjestävät vuonna 2024 tapahtumia\, joissa käsittelemme internetin LGBTQIA+ historiaa. Kaipaamme tapahtumien aineistoksi netin käyttäjien omia muistoja ja kokemuksia.\n\nKysely on avoinna toistaiseksi ja se löytyy osoitteesta: https://hssaatio.typeform.com/wwwmuistot\n\nKuva: ruutukaappaus kaappi.com -sivuston foorumilta vuodelta 2005.
URL:https://sateenkaarihistoria.fi/event/sateenkaareva-internet-kysely/
LOCATION:Verkkotapahtuma
CATEGORIES:Sateenkaarihistoriakuukausi 2023,Yli viikon mittaiset tapahtumat
ATTACH;FMTTYPE=image/png:https://sateenkaarihistoria.fi/wp-content/uploads/2023/11/kaappicom-foorumi2005.png
ORGANIZER;CN="Postimuseo":MAILTO:info@postimuseo.fi
END:VEVENT
BEGIN:VEVENT
DTSTART;VALUE=DATE:20240419
DTEND;VALUE=DATE:20240421
DTSTAMP:20260425T193527
CREATED:20231221T095830Z
LAST-MODIFIED:20240213T193943Z
UID:10972-1713484800-1713657599@sateenkaarihistoria.fi
SUMMARY:Queering Nordic Borders: NNAQH seminar in Bergen 2024
DESCRIPTION:Queering Nordic Borders – the second conference of the Nordic Network for Queer History Archives and Activities (NNAQH) will take place in Bergen on April 20\, 2024 (with pre-conference activities and dinner the night before). The conference addresses the arbitrary nature of national borders within the Nordic and Baltic regions. How can we through our practices as archivists\, activists and historians question\, cross and “queer” those borders?\n\nThere will be a pre conference reception and informal dinner on April 19th  at 6 pm.  See below for a preliminary programme of the conference.\n\n\nQueering Nordic Borders – the second conference of NNAQH addresses the arbitrary nature of borders within the Nordic and Baltic region\, and the consequences for marginalized people\, e.g. queer people and indigenous people. The Sámi people have been particularly repressed by colonial practices\, and by borders drawn with little consideration of the real lives of people living in the Middle and Northern parts of the Nordic Region. \nAt the conference we discuss how queer archives and historians can question the Nordic colonial past. How have assimilation policies shaped queer indigenous lives? And how do we preserve\, disseminate and research queer histories? The preservation\, dissemination and research of Sámi queer history in particular\, will be the topic of one of the sessions. Other questions discussed include how queer history and queer archival practices can “queer” and transgress national borders within the region. \nVENUE:Nygårdsgaten 5 (NG5)\, which is the building of the administration of the University of Bergen.  Nygårdsgaten 5 | UiB Tjenesteutvikling | UiB \nThe pre-conference dinner will be at Skeivt arkiv (The Norwegian Queer Archive) at the Faculty of Humanities Building (HF-bygget)\, Sydnesplassen 7. \nRegistration for the conference will open February 15\,  2024 and close  April 1\, but if you want to apply for travel grants\, please read the following information as soon as possible. \nNnaqh has a small budget for reimbursing the travel expenses and accommodation of participants from the Nordic and Baltic countries. Since we can only support 5-6 participants or organizations\, we encourage all participants whose trip can not be covered by their workplace or organization to apply for funding through Nordic and local/national funds. \nNB! Nnaqh cannot reimburse state financed organizations or participants from such institutions. We will prioritize reimbursement of participants from NGOs or alike with small or no funding. When Nnaqh allocates reimbursement\, intersectional perspectives and geographical distribution will be considered. \n  \nReimbursements by NNAQH\nIf you are interested in getting your trip reimbursed please send us a motivation letter including a budget for travel costs and accommodation by March 1\, 2024 the latest\, to the following address nnaqh@qrab.se and enter “Reimbursement” in the subject line. The decisions will be made on March 6 and communicated shortly after. We can cover the travel expenses of 5-6 participants or organizations up to the amount of 500 euro each. \nPlease write a short motivation (500 words) on why you would like to participate in the conference in Bergen. Describe how the participation in the Nordic network for queer history activities and archives might benefit queer history activism and archives in your region. Explain in short how you plan to use the experiences from and the knowledge gained at the conference. Include a short description of your previous experience of archive or cultural heritage work\, and/or of queer or LGBT+ archive activities; and/or of queer or LGBT+ history activities in general. Do also include your current connections to queer or \nLGBT+ organizations or activism or to archives or cultural heritage institutions. \n  \nOther travel grants\nThe mobility funding of Nordic Culture Point is available for professional artists’ or cultural practitioners’ travel and/or stay within the Nordic and/or Baltic countries\, that is to say: Denmark\, Estonia\, Finland\, the Faroe Islands\, Greenland\, Iceland\, Latvia\, Lithuania\, Norway\, Sweden and Åland. The following application period for the mobility funding of Nordic Culture Point is 2.1-31.1.2024. Here is more information about the mobility funding: https://www.nordiskkulturkontakt.org/en/mobility-funding/ \nNB! If you decide to apply for travel grants from the Nordic Culture Point you need an invitation letter from the organizers. Please contact Runar Jordåen Runar.Jordaen@uib.no before January 20\, 2024 if you wish an invitation letter. \nNB! Check also out the different options for travel grants in the country you are based in. Remember that the handling time of applications for travel grants normally is at least 4-6 weeks\, more often several months\, so apply already in the beginning of the year 2024. \n  \n\nProgram (subject to change)\nSee most recent program on the event’s website:\nhttps://skeivtarkiv.no/nnaqh-seminar-bergen-2024 \nFriday April 19th\nLocation: Skeivt arkiv\, The Norwegian Queer Archive\, Sydnesplassen 7.   \n18.00-21.00: Pre-conference reception with pizza / drinks and tour of The Norwegian Queer Archive. \nSaturday April 20th\nLocation: Nygårdsgaten 5 (NG5)\, which is the building of the administration of the University of Bergen.   Nygårdsgaten 5 | UiB Tjenesteutvikling | UiB   \nStreaming link: Will be published on the conference page and sent to all the participants. \n9.00-9.20: Welcome & opening of the seminar. \n9.20-9.40: Elisabeth Stubberud and Dávvet Buun-Solbakk :  Queering the gákti: Weaving tradition and identity in new ways. \n9.40-11.00: Queer archiving and queer history in Norway\nChair: TBA. \n09.40-9:55: Line Førre Grønstad: The history of The Norwegian Queer Archive (Skeivt arkiv). \n9.55-10:10:  Runar Jordåen: A short introduction to queer archives in Norway \n10:10-10:25: Silje Gaupseth: Queering Polar History – queering the Polar Museum in Tromsø. \n10:25-10:40: Tone Hellesund: Queer history in Norway: Status\, research projects\, challenges \n10:40-11:00: Discussion\, Q&A \nBreak 11.00-11.15. \n11.15-12.15: Queering Sámi history part 1\nChair: TBA \nTorjer Olsen: Gender and queer perspectives in Sámi research: Gaps and steps forward. (Digital participation.) \nSara Lindquist: Queering Sápmi – a retrospect \n12.15-13.15: Lunch\n13.15.-14.00: Queering Sámi history part 2\nPanel discussion. \n14.00-14.15: Break \n14.15-16.05: Crossing Borders: Queer history and archivism beyond the nation state in the Nordic and Baltic regions\nChair: TBA. \n14.15-14.45 Íris Ellenberger: Queer desires in Danish-Icelandic transnational spaces in the late 19th and early 20th centuries. \n14.45-15.15 Riikka Tavetti (University of Turku). Finnish Queer Histories and Shifting Nordic and Baltic Borders” \n15.15-15.45 Peter Edelberg: Beyond Methodological Nationalism in Scandinavian LGBT+ Activist History: Some Norwegian Examples. \n15.45-16.05: Discussion: How can we as queer historians and archivists transgress the nation state in our practices? \n16.15-16.45: End discussion\n  \nThe conference is supported by NIKK Nordic Information on Gender and Stiftelsen Fritt Ord.
URL:https://sateenkaarihistoria.fi/event/bonju-queering-nordic-borders-nnaqh-seminar-in-bergen-2024/
END:VEVENT
BEGIN:VEVENT
DTSTART;TZID=Europe/Helsinki:20240425T190000
DTEND;TZID=Europe/Helsinki:20240504T203000
DTSTAMP:20260425T193527
CREATED:20240222T130358Z
LAST-MODIFIED:20240222T130358Z
UID:11808-1714071600-1714854600@sateenkaarihistoria.fi
SUMMARY:Carl Knif Company: I address you
DESCRIPTION:I address you on henkilökohtainen ja yhteiskunnallinen tanssisoolo\, jonka Carl Knif on luonut itselleen. \nKnifin omakohtaisista kokemuksista kumpuavassa esityksessä muistot ja menneet tapahtumat vuorottelevat tuoreimpien ilmiöiden kanssa\, joissa itsetunto\, loukkaamattomuus ja empaattinen kyky asetetaan koetukselle. \nTeos pyrkii tekemään näkyväksi homoseksuaalisen vähemmistön kirjoittamattoman historian. Miten vaiennetut kokemukset vaikuttavat meihin? Millä tavalla koetut traumat kantautuvat sukupolvelta toiselle? Entä miten rakentaa itselleen identiteetti ympäristössä\, jossa esikuvia ei ole? \nTodellisten kohtaamisten ja syvien keskustelujen kaipuu on tämän raivoisan tanssin liikkeellepaneva voima. I address you kannustaa keskusteluun ja puolustaa ajatusta paremmasta maailmasta – se haluaa astua elämän sisälle\, tulla sinua lähelle. \nKoreografia ja tanssi: Carl Knif \nEnsi-ilta 25.4. klo 19\nMuut esitykset: 26.4. / 27.4. / 2.5. / 3.5. / 4.5. klo 19 \nKesto: n. 1 h\nEsityskieli: englanti
URL:https://sateenkaarihistoria.fi/event/carl-knif-company-i-address-you/
LOCATION:Tanssin talo\, Kaapeliaukio 3\, Helsinki\, 00180
ATTACH;FMTTYPE=image/jpeg:https://sateenkaarihistoria.fi/wp-content/uploads/2024/02/I-address-you_Photo-Yoshi-Omori-2-scaled.jpg
ORGANIZER;CN="Carl Knif Company":MAILTO:info@carlknifcompany.com
END:VEVENT
BEGIN:VEVENT
DTSTART;TZID=Europe/Helsinki:20240427T150000
DTEND;TZID=Europe/Helsinki:20240427T190000
DTSTAMP:20260425T193527
CREATED:20240404T065201Z
LAST-MODIFIED:20240404T071744Z
UID:12331-1714230000-1714244400@sateenkaarihistoria.fi
SUMMARY:Taidetta Sateenkaarisenioreille: Prom Crush[ing]
DESCRIPTION:Crush[ing] on projekti ja erityinen paikka\, jonka tavoitteena on luoda sukupolvien välisiä queer-kohtaamisia. Kevätjuhla Prom Crush[ing] on tapahtuma\, joka kutsuu kaikenikäiset queer-ja transihmiset juhlistamaan kevättä ja queer-ihastumisia.  \n  \nCrush[ing] on osa Taidetta Sateenkaarisenioreille – hanketta. Hankkeessa on talven ajan kyläilty senioreiden luona\, tanssittu\, keskusteltu ja kirjoitettu rakkauskirjeitä ihastumisesta. Prom Crush[ing]-juhla on Taidetta Sateenkaarisenioreille-hankkeen huipentuma ja se tuo yhteen kaikki mukana olleet\, sekä luo kurkistusaukon löydettyihin ihastumisen ja murskaantumisisen kokemuksiin\, muistoihin ja elämiin. \n  \nLauantaina 27.4. kello 15-19 \nPaikka: Hotelli Katajanokka \nKesto: n. 4h \nKieli: suomi ja englanti \n  \nHuom! Sateenkaarisenioreilla on etuajo-oikeus tapahtumaan. Ilmoittautuminen sähköpostitse eevi@todellisuus.fi \n  \nOHJELMA/AIKATAULU \n15:00 Tapahtuma alkaa \n15:10 Tervetulopuhe \n15:30 Crush[ing]-esitys (Esiintyjät: Andre\, Juuli\, Kuisma E\, Kuisma H\, Maru\, Meerit\, Miio\, Nilas\, Piki\, Rene\, Seppo\, Sora\, Una & Vippe) \n16:00 Ava Grayson: Rakkauslaulukeikka \n16:30 Toivebiisi DJ Cute Cumber  \n18:40 Angel & Saban: Cindy Goes to Prom \n19:00 Tapahtuma päättyy \n  \nESTEETTÖMYYS: \n\nHissi\nEsteettömät kulkureitit\nEsteetön pysäköinti\nPyörätuolille soveltuva yleinen WC\nPyörätuolille soveltuva kulkutie hissille\nPyörätuolin käyttäjille soveltuva vastaanottotiski\nPyörätuolille soveltuva kuntokeskus\nPyörätuolille soveltuva business center\nPyörätuolille soveltuva ravintola\nTekstitys televisiossa\nMatalat pistorasiat kylpyhuoneessa\nVipuovenkahvat\nHyvin valaistu kulkutie sisäänkäynnille\nPortaaton kulkutie sisäänkäynnille\n\nMiten saavut? \nRaitiovaunu 4 (suunta Katajanokka\, pysäkki ”Vyökatu”) \nPysäköinti \nJulkinen pysäköintialue hotellin sisäpihalla (21 €/vrk tai 3\,50 €/tunti) \nJulkinen pysäköinti (tarkista maksullisen pysäköinnin kellonajat & maksut lippuautomaateista) \n* \nTaidetta Sateenkaarisenioreille-hanke (2023-2024) \non vuoden kestävä yhteisötaidehanke\, jossa tehdään tiivistä yhteistyötä Sateenkaariseniorit ry:n kanssa. Hanke pyrkii luomaan yhteisöä ja yhteenkuuluvuuden tunnetta queer- ja transsenioreille taidetyöpajojen\, kotikäyntien\, sukupolvien välisten kohtaamispaikkojen sekä esitystoiminnan kautta. Taidetta Sateenkaarisenioreille-hanke on Eevi Tolvasen aloittaman Queer Dance Group:n jatkumo\, jonka alustana Todellisuuden tutkimuskeskus toimii. Tolvanen johtaa projektia läheisessä yhteistyössä ohjaaja Minna Lundin ja äänitaiteilija Ava Graysonin kanssa. Hanketta koordinoi Todellisuuden tutkimuskeskus ja sitä rahoittaa Helsingin kaupunki.
URL:https://sateenkaarihistoria.fi/event/taidetta-sateenkaarisenioreille-prom-crushiing/
LOCATION:Hotelli Katajanokka\, Merikasarminkatu 1 A\, Helsinki\, 00160
ATTACH;FMTTYPE=image/jpeg:https://sateenkaarihistoria.fi/wp-content/uploads/2024/04/crushing_tapahtumabanneri-1-scaled.jpg
ORGANIZER;CN="Todellisuuden tutkimuskeskus":MAILTO:info@todellisuus.fi
END:VEVENT
BEGIN:VEVENT
DTSTART;TZID=Europe/Helsinki:20240428T143000
DTEND;TZID=Europe/Helsinki:20240428T153000
DTSTAMP:20260425T193527
CREATED:20240118T134954Z
LAST-MODIFIED:20240118T134954Z
UID:11374-1714314600-1714318200@sateenkaarihistoria.fi
SUMMARY:Taidekoti Kirpilä: Queer-opastus
DESCRIPTION:Opas Antti Solin johdattelee tarkastelemaan taidekokoelmaa sateenkaarevin tulkinnoin\, normatiivisia näkökulmia haastaen. \nLämpimästi tervetuloa! Vapaa pääsy. \nKuva: Riitta Supperi \n\n\n\n\nSyrjinnästä vapaa taidemuseo\n\n\n\n\n\n\n\n\nTaidekoti Kirpilä haluaa olla syrjinnästä ja häirinnästä vapaa alue. Taidekoti on avoin kaikille\, ja toivomme kaikkien kävijöiden osallistuvan turvallisen ja miellyttävän museovierailun luomiseen. \n\n\n\n\n\n\nEmme hyväksy rasismia\, syrjintää tai seksismiä missään muodoissaan. Otathan siis huomioon muut tilan käyttäjät käytöksessäsi ja puheessasi. Tehdään Taidekodista yhdessä viihtyisä paikka! \nJos otat valokuvia\, joissa on mukana muita ihmisiä\, varmista\, että se sopii kaikille kuvissa näkyville. \nOtathan yhteyttä henkilökuntaan ongelmatilanteissa\, pyrimme auttamaan parhaamme mukaan. \n\n\n\n\nEsteettömyys ja saavutettavuus\n\n\n\n\n\n\n\n\nTaidekoti Kirpilä ei ole esteetön tila. Sijaitsemme kerrostalon ylimmässä\, kuudennessa kerroksessa. \n\n\n\n\n\n\nSaapuminen museoon \nLähin esteetön autopaikka\, johon voi pysäköidä liikkumisesteisen pysäköintitunnuksella sijaitsee osoitteessa Pohjoinen Hesperiankatu 17. \nTalon ulko-ovella on viisi porrasta\, joiden molemmilla puolilla on käsijohde (eli kaide). Aukioloaikoinamme keskiviikkoisin klo 14–18 ja sunnuntaisin klo 12–16 porraskäytävään pääsee pyörätuolilla vartijan avustamana porttikäytävän ja pihaoven kautta. Reitillä on viisi ovea\, ja kapein oviaukko on 87\,5 cm. Neljässä oviaukossa on kynnys\, jotka ovat korkeudeltaan 2–3\,5 cm. Voit soittaa meille etukäteen (050 351 4337) ja kertoa saapumisajankohtasi\, niin vartija on valmiudessa. Jos tarvitset tätä vaihtoehtoista sisäänkäyntiä tilatun opastuskäynnin yhteydessä aukioloaikojen ulkopuolella\, kerrothan tarpeesta opastusvarausta tehdessäsi. \nTalon ulko-ovella on oma summerimme\, jossa lukee ”Taidekoti Kirpilä”. Summeri sijaitsee seinässä ulko-oven vasemmalla puolella 1\,48 metrin korkeudella. \nVuonna 1934 valmistuneen rakennuksen hissi on alkuperäinen veräjähissi\, jonka oviaukon leveys on 65\,5 cm. Hississä on kaikilla seinillä tangot. Hissin mitat ovat: korkeus 225 cm\, leveys 90 cm (tangot ovat 1 m:n korkeudella\, ja niiden välillä leveys on 73 cm) ja syvyys 127 cm (etäisyys hissikorin takaseinän tangosta veräjäoveen on 118 cm). Hissin ylin painike on 143 cm:n korkeudella. Painikkeita ei ole kohonumeroitu. \nLiikkuminen museossa \nTaidekodin ulko-oven aukon leveys on 83 cm\, ja sen kynnys on 4\,5 cm korkea. \nEteisessä pitää riisua kengät tai pukea suojatossut niiden päälle. Eteisessä on tätä varten tuoleja. \nPaikalla Taidekodissa on henkilökuntaa\, joka voi auttaa vaatesäilytyksen kanssa\, ja maksupääte voidaan tuoda asiakkaan luo. Sisäänpääsy on maksuton\, mutta myynnissä on kirjoja ja postikortteja. \nKaikissa huoneissa on tuoleja (nojatuoleja ja sohvia\, joiden korkeus on 40–50 cm)\, joilla voi istua. \nTaidekodin lattioilla on itämaisia mattoja\, joiden alla on liukuesteet. Oviaukoissa mahtuu liikkumaan pyörätuolilla. Oviaukkojen kynnykset ovat korkeintaan 2 cm korkeita. Pienin oviaukon leveys on 67\,5 cm. \nTeoslistat löytyvät huoneista\, eli yksittäisten teosten luona seinillä ei ole tekstejä. Tarvittaessa toimistosta voi pyytää teoslistat isotekstisinä. \nWC-tilat \nTiloissamme on kolme sukupuolineutraalia yleisö-WC:tä\, joiden oviaukkojen kynnykset ovat 9 cm:n\, 4 cm:n ja 3\,5 cm:n korkeudella. Esteetöntä WC-tilaa ei ole. Ovien vetimet ovat 1 m:n korkeudella. Matalimman kynnyksen WC:n oviaukon leveys on 57\,5 cm\, ja huone on kapeimmillaan 52 cm patterin ja lavuaarin välissä. Tilavimmassa WC:ssä on myös korkein kynnys (9 cm). Sen oviaukon leveys on 67\,5 cm\, ja huone on kapeimmillaan 82\,5 cm WC-istuimen ja patterin välissä. \nOpaskoirat \nAvustavat koirat ovat tervetulleita. \nVideomateriaalia \nTaidekodin YouTube-kanavalla voi tutustua esittelyvideoihin ja konserttitallenteisiin. Esittelyvideot ovat tekstitettyjä\, mutta tallenteet eivät.
URL:https://sateenkaarihistoria.fi/event/taidekoti-kirpila-queer-opastus/
LOCATION:Taidekoti Kirpilä\, Pohjoinen Hesperiankatu 7\, 6. krs\, Helsinki\, 00260\, Suomi
ATTACH;FMTTYPE=image/jpeg:https://sateenkaarihistoria.fi/wp-content/uploads/2024/01/Antti-kuva-1-scaled.jpg
ORGANIZER;CN="Taidekoti Kirpil&auml%3B":MAILTO:pia.hyttinen@skr.fi
END:VEVENT
END:VCALENDAR